BEGIN:VCALENDAR
VERSION:2.0
PRODID:spatie/icalendar-generator
DESCRIPTION:Events from Logan University
X-WR-CALDESC:Events from Logan University
REFRESH-INTERVAL;VALUE=DURATION:PT1440M
X-PUBLISHED-TTL:PT1440M
BEGIN:VTIMEZONE
TZID:America/Chicago
BEGIN:STANDARD
DTSTART:20241103T020000Z
TZOFFSETFROM:-0500
TZOFFSETTO:-0600
END:STANDARD
BEGIN:DAYLIGHT
DTSTART:20250309T020000Z
TZOFFSETFROM:-0600
TZOFFSETTO:-0500
END:DAYLIGHT
END:VTIMEZONE
BEGIN:VTIMEZONE
TZID:UTC
BEGIN:STANDARD
DTSTART:20250727T090414Z
TZOFFSETFROM:+0000
TZOFFSETTO:+0000
END:STANDARD
END:VTIMEZONE
BEGIN:VEVENT
UID:111-21
DTSTAMP:20260423T090414Z
SUMMARY:Commitment to Excellence Ceremony - Rescheduled to 5 PM Monday\, Ja
 nuary 13 in the William D. Purser\, DC Center.
LOCATION:
ORGANIZER;CN=holly.davis@logan.edu:MAILTO:holly.davis@logan.edu
DTSTART;TZID=America/Chicago:20250113T170000
DTEND;TZID=America/Chicago:20250113T180000
X-ALT-DESC;FMTTYPE=TEXT/HTML:For more information\, please visit the Commit
 ment to Excellence Ceremony Page.
CATEGORIES:Academic Calendar
URL;VALUE=URI:https://www.logan.edu/mc-events/commitment-to-excellence-cere
 mony-rescheduled-to-5-pm-monday-january-13-in-the-william-d-purser-dc-cent
 er/?mc_id=111
END:VEVENT
END:VCALENDAR