BEGIN:VCALENDAR
VERSION:2.0
PRODID:spatie/icalendar-generator
DESCRIPTION:Events from Logan University
X-WR-CALDESC:Events from Logan University
REFRESH-INTERVAL;VALUE=DURATION:PT1440M
X-PUBLISHED-TTL:PT1440M
BEGIN:VTIMEZONE
TZID:America/Chicago
BEGIN:STANDARD
DTSTART:20241103T020000Z
TZOFFSETFROM:-0500
TZOFFSETTO:-0600
END:STANDARD
BEGIN:DAYLIGHT
DTSTART:20250309T020000Z
TZOFFSETFROM:-0600
TZOFFSETTO:-0500
END:DAYLIGHT
END:VTIMEZONE
BEGIN:VTIMEZONE
TZID:UTC
BEGIN:STANDARD
DTSTART:20250730T034419Z
TZOFFSETFROM:+0000
TZOFFSETTO:+0000
END:STANDARD
END:VTIMEZONE
BEGIN:VEVENT
UID:27-27
DTSTAMP:20260426T034419Z
SUMMARY:Martin Luther King Day - Campus Closed
LOCATION:
ORGANIZER;CN=holly.davis@logan.edu:MAILTO:holly.davis@logan.edu
DTSTART;TZID=America/Chicago;VALUE=DATE:20250120
DTEND;TZID=America/Chicago;VALUE=DATE:20250121
X-ALT-DESC;FMTTYPE=TEXT/HTML:
CATEGORIES:Academic Calendar,  General
URL;VALUE=URI:https://www.logan.edu/mc-events/martin-luther-king-day-campus
 -closed/?mc_id=27
END:VEVENT
END:VCALENDAR